BEGIN:VCALENDAR
VERSION:2.0
PRODID:-//Espai Culinari Cafè de Mar | Mataró - ECPv6.15.20//NONSGML v1.0//EN
CALSCALE:GREGORIAN
METHOD:PUBLISH
X-ORIGINAL-URL:https://www.cafedemar.cat
X-WR-CALDESC:Esdeveniments per Espai Culinari Cafè de Mar | Mataró
REFRESH-INTERVAL;VALUE=DURATION:PT1H
X-Robots-Tag:noindex
X-PUBLISHED-TTL:PT1H
BEGIN:VTIMEZONE
TZID:Europe/Helsinki
BEGIN:DAYLIGHT
TZOFFSETFROM:+0200
TZOFFSETTO:+0300
TZNAME:EEST
DTSTART:20220327T010000
END:DAYLIGHT
BEGIN:STANDARD
TZOFFSETFROM:+0300
TZOFFSETTO:+0200
TZNAME:EET
DTSTART:20221030T010000
END:STANDARD
BEGIN:DAYLIGHT
TZOFFSETFROM:+0200
TZOFFSETTO:+0300
TZNAME:EEST
DTSTART:20230326T010000
END:DAYLIGHT
BEGIN:STANDARD
TZOFFSETFROM:+0300
TZOFFSETTO:+0200
TZNAME:EET
DTSTART:20231029T010000
END:STANDARD
BEGIN:DAYLIGHT
TZOFFSETFROM:+0200
TZOFFSETTO:+0300
TZNAME:EEST
DTSTART:20240331T010000
END:DAYLIGHT
BEGIN:STANDARD
TZOFFSETFROM:+0300
TZOFFSETTO:+0200
TZNAME:EET
DTSTART:20241027T010000
END:STANDARD
END:VTIMEZONE
BEGIN:VEVENT
DTSTART;TZID=Europe/Helsinki:20231214T210000
DTEND;TZID=Europe/Helsinki:20231214T230000
DTSTAMP:20260423T110331
CREATED:20231009T173629Z
LAST-MODIFIED:20231117T183420Z
UID:901-1702587600-1702594800@www.cafedemar.cat
SUMMARY:Perifèric Poetry presenta Cara B (Elia Serrano i Eric Serrano) + escenari obert
DESCRIPTION:Dijous 14 de desembre\n21 h | Taquilla inversa\nEspai Culinari del Cafè de Mar\nUn viatge arqueològic per les esquerdes del nostre cos\, una autòpsia minuciosa sobre nosaltres mateixos o un reflex de què mostrem i del que en realitat som; la distinció entre el permeable i l’impermeable. \nUn espectacle de poesia en viu acompanyat de música\, piano i guitarra\, i veu. Elia Serrano\, poeta i estudiant d’interpretació\, i Eric Serrano\, compositor i graduat en teatre musical són els encarregats de donar vida al poemari ‘Cara B‘. \n \nPerifèric Poetry Mataró és un espectacle de micro obert de poesia. S’hi dona cabuda a tota mena de manifestació poètica o artística posant èmfasi a la poesia escènica. Aquesta activitat sempre l’obre un o un/a artista convidat/da per l’ocasió i després s’obre l’escenari per a les persones que prèviament s’han inscrit\, tot coordinat pel presentador del xou\, Danilo Facelli.
URL:https://www.cafedemar.cat/event/periferic-poetry-presenta-elia-serrano-escenari-obert/
ATTACH;FMTTYPE=image/png:https://www.cafedemar.cat/wp-content/uploads/2022/09/WEB-capçalera-Perifèric-Poetry-01.png
END:VEVENT
END:VCALENDAR