BEGIN:VCALENDAR
VERSION:2.0
PRODID:-//Espai Culinari Cafè de Mar | Mataró - ECPv6.15.20//NONSGML v1.0//EN
CALSCALE:GREGORIAN
METHOD:PUBLISH
X-WR-CALNAME:Espai Culinari Cafè de Mar | Mataró
X-ORIGINAL-URL:https://www.cafedemar.cat
X-WR-CALDESC:Esdeveniments per Espai Culinari Cafè de Mar | Mataró
REFRESH-INTERVAL;VALUE=DURATION:PT1H
X-Robots-Tag:noindex
X-PUBLISHED-TTL:PT1H
BEGIN:VTIMEZONE
TZID:Europe/Helsinki
BEGIN:DAYLIGHT
TZOFFSETFROM:+0200
TZOFFSETTO:+0300
TZNAME:EEST
DTSTART:20210328T010000
END:DAYLIGHT
BEGIN:STANDARD
TZOFFSETFROM:+0300
TZOFFSETTO:+0200
TZNAME:EET
DTSTART:20211031T010000
END:STANDARD
BEGIN:DAYLIGHT
TZOFFSETFROM:+0200
TZOFFSETTO:+0300
TZNAME:EEST
DTSTART:20220327T010000
END:DAYLIGHT
BEGIN:STANDARD
TZOFFSETFROM:+0300
TZOFFSETTO:+0200
TZNAME:EET
DTSTART:20221030T010000
END:STANDARD
BEGIN:DAYLIGHT
TZOFFSETFROM:+0200
TZOFFSETTO:+0300
TZNAME:EEST
DTSTART:20230326T010000
END:DAYLIGHT
BEGIN:STANDARD
TZOFFSETFROM:+0300
TZOFFSETTO:+0200
TZNAME:EET
DTSTART:20231029T010000
END:STANDARD
END:VTIMEZONE
BEGIN:VEVENT
DTSTART;TZID=Europe/Helsinki:20220922T210000
DTEND;TZID=Europe/Helsinki:20220922T230000
DTSTAMP:20260424T134658
CREATED:20220826T115121Z
LAST-MODIFIED:20220913T165046Z
UID:159-1663880400-1663887600@www.cafedemar.cat
SUMMARY:Perifèric Poetry Mataró presenta Ian Sala
DESCRIPTION:Dijous 22 de setembre\n21 h | Taquilla inversa\nEspai Culinari del Cafè de Mar\nIan Sala és un compositor i cantant empordanès\, aporta a la música dels caçadors-recol·lectors una nova dimensió poètica: Metàfores\, polifonies i figures retòriques al·legòriques per descriure el badall de les formigues. No canta bé\, no balla bé\, no té un bon ritme. No us el perdeu! \n \nPerifèric Poetry Mataró és un espectacle de micro obert de poesia. S’hi dóna cabuda a tota mena de manifestació poètica posant èmfasi a la poesia escènica. Aquesta activitat sempre l’obre un o un/a artista convidat/da per l’ocasió i després s’obre el micro per a les persones que prèviament s’han inscrit. \n \n 
URL:https://www.cafedemar.cat/event/periferic-poetry-setembre-2022/
ATTACH;FMTTYPE=image/png:https://www.cafedemar.cat/wp-content/uploads/2022/08/WEB-Perifèric-Poetry-Mataró-presenta-Ian-Sala.png
END:VEVENT
END:VCALENDAR