BEGIN:VCALENDAR
VERSION:2.0
PRODID:-//Espai Culinari Cafè de Mar | Mataró - ECPv6.15.20//NONSGML v1.0//EN
CALSCALE:GREGORIAN
METHOD:PUBLISH
X-WR-CALNAME:Espai Culinari Cafè de Mar | Mataró
X-ORIGINAL-URL:https://www.cafedemar.cat
X-WR-CALDESC:Esdeveniments per Espai Culinari Cafè de Mar | Mataró
REFRESH-INTERVAL;VALUE=DURATION:PT1H
X-Robots-Tag:noindex
X-PUBLISHED-TTL:PT1H
BEGIN:VTIMEZONE
TZID:Europe/Helsinki
BEGIN:DAYLIGHT
TZOFFSETFROM:+0200
TZOFFSETTO:+0300
TZNAME:EEST
DTSTART:20240331T010000
END:DAYLIGHT
BEGIN:STANDARD
TZOFFSETFROM:+0300
TZOFFSETTO:+0200
TZNAME:EET
DTSTART:20241027T010000
END:STANDARD
BEGIN:DAYLIGHT
TZOFFSETFROM:+0200
TZOFFSETTO:+0300
TZNAME:EEST
DTSTART:20250330T010000
END:DAYLIGHT
BEGIN:STANDARD
TZOFFSETFROM:+0300
TZOFFSETTO:+0200
TZNAME:EET
DTSTART:20251026T010000
END:STANDARD
BEGIN:DAYLIGHT
TZOFFSETFROM:+0200
TZOFFSETTO:+0300
TZNAME:EEST
DTSTART:20260329T010000
END:DAYLIGHT
BEGIN:STANDARD
TZOFFSETFROM:+0300
TZOFFSETTO:+0200
TZNAME:EET
DTSTART:20261025T010000
END:STANDARD
END:VTIMEZONE
BEGIN:VEVENT
DTSTART;TZID=Europe/Helsinki:20250116T210000
DTEND;TZID=Europe/Helsinki:20250116T230000
DTSTAMP:20260422T124451
CREATED:20250107T115636Z
LAST-MODIFIED:20250107T131228Z
UID:1559-1737061200-1737068400@www.cafedemar.cat
SUMMARY:Poètiques de combat presenta Controvêrsia
DESCRIPTION:Dijous 16 de gener\n21 h | Preu entrada: 8 euros\nEspai Culinari del Cafè de Mar\nControvêrsia\, duet format pel guitarrista David M. Landry i l’escriptora Cristina Giménez Barrera\, seran els encarregats d’estrenar aquest nou cicle de poesia al Cafè. \nPresentaran ‘Dels límits coneguts’; un espectacle sonor de poesia\, un viatge pels marges de la intimitat i alhora un descobriment per reconèixer\, amb contundència\, un temps present que cal temptar. \n \nPoètiques de combat és un cicle de poesia escènica on es presentaran espectacles que combinen la paraula recitada amb el teatre\, la música en directe\, la dansa i tota mena d’arts escèniques. Alhora que se cercarà una programació que fomenti el pensament crític i doni eines per a la transformació social. Una iniciativa de Perifèric Poetry Mataró\, organitzada per Danilo Facelli.
URL:https://www.cafedemar.cat/event/poetiques-de-combat-presenta-controversia/
ATTACH;FMTTYPE=image/png:https://www.cafedemar.cat/wp-content/uploads/2024/11/WEB-2024-capcalera-poesia.png
END:VEVENT
END:VCALENDAR