BEGIN:VCALENDAR
VERSION:2.0
PRODID:-//Espai Culinari Cafè de Mar | Mataró - ECPv6.15.20//NONSGML v1.0//EN
CALSCALE:GREGORIAN
METHOD:PUBLISH
X-ORIGINAL-URL:https://www.cafedemar.cat
X-WR-CALDESC:Esdeveniments per Espai Culinari Cafè de Mar | Mataró
REFRESH-INTERVAL;VALUE=DURATION:PT1H
X-Robots-Tag:noindex
X-PUBLISHED-TTL:PT1H
BEGIN:VTIMEZONE
TZID:Europe/Helsinki
BEGIN:DAYLIGHT
TZOFFSETFROM:+0200
TZOFFSETTO:+0300
TZNAME:EEST
DTSTART:20230326T010000
END:DAYLIGHT
BEGIN:STANDARD
TZOFFSETFROM:+0300
TZOFFSETTO:+0200
TZNAME:EET
DTSTART:20231029T010000
END:STANDARD
BEGIN:DAYLIGHT
TZOFFSETFROM:+0200
TZOFFSETTO:+0300
TZNAME:EEST
DTSTART:20240331T010000
END:DAYLIGHT
BEGIN:STANDARD
TZOFFSETFROM:+0300
TZOFFSETTO:+0200
TZNAME:EET
DTSTART:20241027T010000
END:STANDARD
BEGIN:DAYLIGHT
TZOFFSETFROM:+0200
TZOFFSETTO:+0300
TZNAME:EEST
DTSTART:20250330T010000
END:DAYLIGHT
BEGIN:STANDARD
TZOFFSETFROM:+0300
TZOFFSETTO:+0200
TZNAME:EET
DTSTART:20251026T010000
END:STANDARD
END:VTIMEZONE
BEGIN:VEVENT
DTSTART;TZID=Europe/Helsinki:20241212T200000
DTEND;TZID=Europe/Helsinki:20241212T220000
DTSTAMP:20260422T140011
CREATED:20241125T172921Z
LAST-MODIFIED:20241125T185104Z
UID:1526-1734033600-1734040800@www.cafedemar.cat
SUMMARY:Perifèric Poetry presenta Carles Rossell + micro obert
DESCRIPTION:Dijous 12 de novembre\n20 h Micro obert / 21 h Actuació convidat\nTaquilla inversa\nEspai Culinari del Cafè de Mar\nDesprés de celebrar exitosament els seus deu anys de vida i d’una petita època de descans\, torna el Perifèric Poetry al Cafè\, això sí\, amb un petit canvi d’ordre de factors\, el micro obert serà a les 20 h i l’actuació de l’artista convidat serà a les 21 h. Com sempre\, i com no podria ser d’una altra manera\, Danilo Facelli en serà el coordinador\, agitador\, presentador i estimulador.\n \nCarles Rossell\,  aka Krusta$i\, nascut vora la primavera de l’any 1999\, s’endinsa en el teatre des de ben petit. Més endavant descobreix la passió per l’escriptura\, començant la seva carrera a la poesia escènica dins del circuit del Poetry Slam\, quedant campió de Barcelona el 2022 i Gramenet el 2024\, i subcampió de Gramenet i del Llobregat el 2023 i el 2024 respectivament. Els seus versos han viatjat per festivals dels estats francès i espanyol\, també desenvolupa cursos de poesia escènica a instituts i centres comunitaris. \nArribarà al Cafè amb el recital ‘Pròxima aproximació (Textos d’altura)’. Es coneix com a aproximació: l’escarpat camí de cabres salvatges que fan els escaladors per arribar als sectors d’escalada de roca natural. Un cop arriben al “cim” alguns es pengen de parets i altres es pengen de lletres. Aquest recital és un viatge entre quatre imponents zones d’escalada i la seva corresponent epopeia de supervivència. Una aventura plena d’ocells\, pujades\, altures\, cordes\, pedres i arbres. Pura ‘Rocaïna’ i Poesia no apta pel vertigen amb risc de paranoies verticals i altres símptomes.
URL:https://www.cafedemar.cat/event/periferic-poetry-presenta-carles-rossell-micro-obert/
ATTACH;FMTTYPE=image/png:https://www.cafedemar.cat/wp-content/uploads/2024/11/WEB-2024-capcalera-poesia.png
END:VEVENT
END:VCALENDAR