BEGIN:VCALENDAR
VERSION:2.0
PRODID:-//Espai Culinari Cafè de Mar | Mataró - ECPv6.15.20//NONSGML v1.0//EN
CALSCALE:GREGORIAN
METHOD:PUBLISH
X-ORIGINAL-URL:https://www.cafedemar.cat
X-WR-CALDESC:Esdeveniments per Espai Culinari Cafè de Mar | Mataró
REFRESH-INTERVAL;VALUE=DURATION:PT1H
X-Robots-Tag:noindex
X-PUBLISHED-TTL:PT1H
BEGIN:VTIMEZONE
TZID:Europe/Helsinki
BEGIN:DAYLIGHT
TZOFFSETFROM:+0200
TZOFFSETTO:+0300
TZNAME:EEST
DTSTART:20220327T010000
END:DAYLIGHT
BEGIN:STANDARD
TZOFFSETFROM:+0300
TZOFFSETTO:+0200
TZNAME:EET
DTSTART:20221030T010000
END:STANDARD
BEGIN:DAYLIGHT
TZOFFSETFROM:+0200
TZOFFSETTO:+0300
TZNAME:EEST
DTSTART:20230326T010000
END:DAYLIGHT
BEGIN:STANDARD
TZOFFSETFROM:+0300
TZOFFSETTO:+0200
TZNAME:EET
DTSTART:20231029T010000
END:STANDARD
BEGIN:DAYLIGHT
TZOFFSETFROM:+0200
TZOFFSETTO:+0300
TZNAME:EEST
DTSTART:20240331T010000
END:DAYLIGHT
BEGIN:STANDARD
TZOFFSETFROM:+0300
TZOFFSETTO:+0200
TZNAME:EET
DTSTART:20241027T010000
END:STANDARD
END:VTIMEZONE
BEGIN:VEVENT
DTSTART;TZID=Europe/Helsinki:20231109T210000
DTEND;TZID=Europe/Helsinki:20231109T230000
DTSTAMP:20260423T122515
CREATED:20230928T114041Z
LAST-MODIFIED:20231031T124602Z
UID:871-1699563600-1699570800@www.cafedemar.cat
SUMMARY:Perifèric Poetry presenta Sergio Artero + escenari obert
DESCRIPTION:Dijous 9 de novembre\n21 h | Taquilla inversa\nEspai Culinari del Cafè de Mar\nAmb el títol de ‘Juglaría de antaño y hogaño‘\, en Sergio Artero ens portarà un recital amb poemes propis i aliens per a reflexionar sobre les característiques de la joglaria de totes les èpoques\, des dels Accadis a l’Arxipreste\, des del Romancer a l’Spoken Word. Versos jocosos\, dialogants i celebradors del presencial. \nSergio Artero va néixer a Madrid (Castella) l’any 1980\, és poeta\, actor i director teatral de la Companyia ‘Saltatium Teatro‘\, i en altres companyies de titelles com ‘La Pícara Locuela‘\, ‘Teatro Mutis‘ o ‘Ayayay Teatro‘. Durant sis anys va coordinar ‘El Festival del Muñeco / Cine de Pigmalión‘. \nEscriu principalment poesia i teatre\, les seves publicacions han sigut guardonades amb diversos premis\, com a gestor cultural en l’àmbit poètic\, cal destacar la fundació del col·lectiu de poesia escènica ‘Méquina Dalicada‘\, així com ha participat en l’organització de diferents esdeveniments poètics. \n \nPerifèric Poetry Mataró és un espectacle de micro obert de poesia. S’hi dona cabuda a tota mena de manifestació poètica o artística posant èmfasi a la poesia escènica. Aquesta activitat sempre l’obre un o un/a artista convidat/da per l’ocasió i després s’obre l’escenari per a les persones que prèviament s’han inscrit\, tot coordinat pel presentador del xou\, Danilo Facelli.
URL:https://www.cafedemar.cat/event/periferic-poetry-presenta-sergio-artero-escenari-obert/
ATTACH;FMTTYPE=image/png:https://www.cafedemar.cat/wp-content/uploads/2022/09/WEB-capçalera-Perifèric-Poetry-01.png
END:VEVENT
END:VCALENDAR