BEGIN:VCALENDAR
VERSION:2.0
PRODID:-//Espai Culinari Cafè de Mar | Mataró - ECPv6.15.20//NONSGML v1.0//EN
CALSCALE:GREGORIAN
METHOD:PUBLISH
X-ORIGINAL-URL:https://www.cafedemar.cat
X-WR-CALDESC:Esdeveniments per Espai Culinari Cafè de Mar | Mataró
REFRESH-INTERVAL;VALUE=DURATION:PT1H
X-Robots-Tag:noindex
X-PUBLISHED-TTL:PT1H
BEGIN:VTIMEZONE
TZID:Europe/Helsinki
BEGIN:DAYLIGHT
TZOFFSETFROM:+0200
TZOFFSETTO:+0300
TZNAME:EEST
DTSTART:20220327T010000
END:DAYLIGHT
BEGIN:STANDARD
TZOFFSETFROM:+0300
TZOFFSETTO:+0200
TZNAME:EET
DTSTART:20221030T010000
END:STANDARD
BEGIN:DAYLIGHT
TZOFFSETFROM:+0200
TZOFFSETTO:+0300
TZNAME:EEST
DTSTART:20230326T010000
END:DAYLIGHT
BEGIN:STANDARD
TZOFFSETFROM:+0300
TZOFFSETTO:+0200
TZNAME:EET
DTSTART:20231029T010000
END:STANDARD
BEGIN:DAYLIGHT
TZOFFSETFROM:+0200
TZOFFSETTO:+0300
TZNAME:EEST
DTSTART:20240331T010000
END:DAYLIGHT
BEGIN:STANDARD
TZOFFSETFROM:+0300
TZOFFSETTO:+0200
TZNAME:EET
DTSTART:20241027T010000
END:STANDARD
END:VTIMEZONE
BEGIN:VEVENT
DTSTART;TZID=Europe/Helsinki:20230914T210000
DTEND;TZID=Europe/Helsinki:20230914T230000
DTSTAMP:20260423T145612
CREATED:20230719T180134Z
LAST-MODIFIED:20230901T171603Z
UID:798-1694725200-1694732400@www.cafedemar.cat
SUMMARY:Perifèric Poetry presenta Pablowski + escenari obert
DESCRIPTION:Dijous 14 de setembre\n21 h | Taquilla inversa\nEspai Culinari del Cafè de Mar\nIniciem temporada amb la visita d’aquest poeta de Petrer\, el millor Slammer en l’europeu de Poetry Slam 2022. Ens portarà el recital ‘Esto NO son poemas sociales‘.\nNascut l’any 1986 a Petrer (el Vinalopó Mitjà)\, Pablowski és un artista interdisciplinari\, participant\, tant individualment com col·lectivament\, en dotzenes d’exposicions artístiques. Autor de poemaris: ‘Poemas de un bohemio‘ (autoeditat)\, ‘El dulce sabor del pesimismo y una golondrina entre reptiles‘ (Col·lecció Mosaic)\, ‘Versos escritos en un colchón bomba‘ (Col·lecció Mosaic) i ‘La Hegemonía de las golondrinas‘ (autoeditat). Treballa com a professor d’art\, dibuix artístic i poesia\, així com a tallerista en institucions del país\, relacionades amb la docència i la salut mental. \nEl seu palmarès és extens\, destacant que va ser el campió de l’European Poetry Slam Championship 2022 International performance poetry show\, campió de Poetry Slam Espanya 2022 i campió del Poetry Slam Alacant i subcampió del Llobregat Slam Poetry els anys 2021 i 2022. \nMés informació: La poesia en valencià de Pablowsky ompli els escenaris de tot el món
URL:https://www.cafedemar.cat/event/periferic-poetry-setembre-2023/
ATTACH;FMTTYPE=image/png:https://www.cafedemar.cat/wp-content/uploads/2022/09/WEB-capçalera-Perifèric-Poetry-01.png
END:VEVENT
END:VCALENDAR