BEGIN:VCALENDAR
VERSION:2.0
PRODID:-//Espai Culinari Cafè de Mar | Mataró - ECPv6.15.20//NONSGML v1.0//EN
CALSCALE:GREGORIAN
METHOD:PUBLISH
X-WR-CALNAME:Espai Culinari Cafè de Mar | Mataró
X-ORIGINAL-URL:https://www.cafedemar.cat
X-WR-CALDESC:Esdeveniments per Espai Culinari Cafè de Mar | Mataró
REFRESH-INTERVAL;VALUE=DURATION:PT1H
X-Robots-Tag:noindex
X-PUBLISHED-TTL:PT1H
BEGIN:VTIMEZONE
TZID:Europe/Helsinki
BEGIN:DAYLIGHT
TZOFFSETFROM:+0200
TZOFFSETTO:+0300
TZNAME:EEST
DTSTART:20220327T010000
END:DAYLIGHT
BEGIN:STANDARD
TZOFFSETFROM:+0300
TZOFFSETTO:+0200
TZNAME:EET
DTSTART:20221030T010000
END:STANDARD
BEGIN:DAYLIGHT
TZOFFSETFROM:+0200
TZOFFSETTO:+0300
TZNAME:EEST
DTSTART:20230326T010000
END:DAYLIGHT
BEGIN:STANDARD
TZOFFSETFROM:+0300
TZOFFSETTO:+0200
TZNAME:EET
DTSTART:20231029T010000
END:STANDARD
BEGIN:DAYLIGHT
TZOFFSETFROM:+0200
TZOFFSETTO:+0300
TZNAME:EEST
DTSTART:20240331T010000
END:DAYLIGHT
BEGIN:STANDARD
TZOFFSETFROM:+0300
TZOFFSETTO:+0200
TZNAME:EET
DTSTART:20241027T010000
END:STANDARD
END:VTIMEZONE
BEGIN:VEVENT
DTSTART;TZID=Europe/Helsinki:20230518T210000
DTEND;TZID=Europe/Helsinki:20230518T230000
DTSTAMP:20260423T203014
CREATED:20230324T192939Z
LAST-MODIFIED:20230508T174014Z
UID:656-1684443600-1684450800@www.cafedemar.cat
SUMMARY:Perifèric Poetry presenta Pía Sommer + escenari obert
DESCRIPTION:Dijous 18 de maig\n21 h | Taquilla inversa\nEspai Culinari del Cafè de Mar\nArribaran al Cafè amb la seva proposta Barambambam!\, accions i viatges entre poemes\, músiques\, improvisacions i lletres pròpies\, amb influències llatinoamericanes\, gestos flamencs i esperit rocker. Amb aquella embriaguesa que produeix la paraula quan esdevé cançó. \n \nPerifèric Poetry Mataró és un espectacle de micro obert de poesia. S’hi dóna cabuda a tota mena de manifestació poètica o artística posant èmfasi a la poesia escènica. Aquesta activitat sempre l’obre un o un/a artista convidat/da per l’ocasió i després s’obre l’escenari per a les persones que prèviament s’han inscrit\, tot coordinat pel presentador del xou\, Danilo Facelli. Per aquesta edició de l’escenari obert de maig\, ‘Alien\, el 8è passatger’ serà el tema recurrent que les participants hauran d’afrontar quan pugin a l’escenari.
URL:https://www.cafedemar.cat/event/periferic-maig23/
ATTACH;FMTTYPE=image/png:https://www.cafedemar.cat/wp-content/uploads/2022/09/WEB-capçalera-Perifèric-Poetry-01.png
END:VEVENT
END:VCALENDAR