BEGIN:VCALENDAR
VERSION:2.0
PRODID:-//Espai Culinari Cafè de Mar | Mataró - ECPv6.15.20//NONSGML v1.0//EN
CALSCALE:GREGORIAN
METHOD:PUBLISH
X-ORIGINAL-URL:https://www.cafedemar.cat
X-WR-CALDESC:Esdeveniments per Espai Culinari Cafè de Mar | Mataró
REFRESH-INTERVAL;VALUE=DURATION:PT1H
X-Robots-Tag:noindex
X-PUBLISHED-TTL:PT1H
BEGIN:VTIMEZONE
TZID:Europe/Helsinki
BEGIN:DAYLIGHT
TZOFFSETFROM:+0200
TZOFFSETTO:+0300
TZNAME:EEST
DTSTART:20220327T010000
END:DAYLIGHT
BEGIN:STANDARD
TZOFFSETFROM:+0300
TZOFFSETTO:+0200
TZNAME:EET
DTSTART:20221030T010000
END:STANDARD
BEGIN:DAYLIGHT
TZOFFSETFROM:+0200
TZOFFSETTO:+0300
TZNAME:EEST
DTSTART:20230326T010000
END:DAYLIGHT
BEGIN:STANDARD
TZOFFSETFROM:+0300
TZOFFSETTO:+0200
TZNAME:EET
DTSTART:20231029T010000
END:STANDARD
BEGIN:DAYLIGHT
TZOFFSETFROM:+0200
TZOFFSETTO:+0300
TZNAME:EEST
DTSTART:20240331T010000
END:DAYLIGHT
BEGIN:STANDARD
TZOFFSETFROM:+0300
TZOFFSETTO:+0200
TZNAME:EET
DTSTART:20241027T010000
END:STANDARD
END:VTIMEZONE
BEGIN:VEVENT
DTSTART;TZID=Europe/Helsinki:20230302T190000
DTEND;TZID=Europe/Helsinki:20230302T210000
DTSTAMP:20260423T015349
CREATED:20230123T190518Z
LAST-MODIFIED:20230215T174653Z
UID:564-1677783600-1677790800@www.cafedemar.cat
SUMMARY:Presentació del llibre: 'El Diluvio y la prensa en la Segunda República'
DESCRIPTION:A càrrec del seu autor\, Gil Toll\, presentat per Pere Tió\nDijous 2 de març | 19 h\nEspai Culinari del Cafè de Mar\nEl diari ‘El Diluvio’ és avui en dia un desconegut\, però va ser el gran diari popular de Catalunya durant vuitanta-un anys. El punt de connexió de les diverses famílies del progressisme republicà\, federalista\, catalanista i\, especialment\, l’anarquista\, que predominava entre el moviment obrer. \nJoan Peiró i Àngel Pestaña van ser molt propers a un diari que també va fer especial atenció al moviment cooperativista. Per això va patir la repressió franquista\, que va empresonar els periodistes que no van marxar a l’exili i va tancar l’empresa el gener del 1939. En aquest enllaç\, trobareu més informació sobre el diari ‘El Diluvio’. \nActe organitzat per l’arxiu / biblioteca de la Unió de Cooperadors de Mataró i l’Espai Culinari del Cafè de Mar.
URL:https://www.cafedemar.cat/event/presentacio-del-llibre-el-diluvio-y-la-prensa-en-la-segunda-republica/
ATTACH;FMTTYPE=image/png:https://www.cafedemar.cat/wp-content/uploads/2022/09/WEB-capçalera-Llibres-01.png
END:VEVENT
END:VCALENDAR