BEGIN:VCALENDAR
VERSION:2.0
PRODID:-//Espai Culinari Cafè de Mar | Mataró - ECPv6.15.20//NONSGML v1.0//EN
CALSCALE:GREGORIAN
METHOD:PUBLISH
X-ORIGINAL-URL:https://www.cafedemar.cat
X-WR-CALDESC:Esdeveniments per Espai Culinari Cafè de Mar | Mataró
REFRESH-INTERVAL;VALUE=DURATION:PT1H
X-Robots-Tag:noindex
X-PUBLISHED-TTL:PT1H
BEGIN:VTIMEZONE
TZID:Europe/Helsinki
BEGIN:DAYLIGHT
TZOFFSETFROM:+0200
TZOFFSETTO:+0300
TZNAME:EEST
DTSTART:20230326T010000
END:DAYLIGHT
BEGIN:STANDARD
TZOFFSETFROM:+0300
TZOFFSETTO:+0200
TZNAME:EET
DTSTART:20231029T010000
END:STANDARD
BEGIN:DAYLIGHT
TZOFFSETFROM:+0200
TZOFFSETTO:+0300
TZNAME:EEST
DTSTART:20240331T010000
END:DAYLIGHT
BEGIN:STANDARD
TZOFFSETFROM:+0300
TZOFFSETTO:+0200
TZNAME:EET
DTSTART:20241027T010000
END:STANDARD
BEGIN:DAYLIGHT
TZOFFSETFROM:+0200
TZOFFSETTO:+0300
TZNAME:EEST
DTSTART:20250330T010000
END:DAYLIGHT
BEGIN:STANDARD
TZOFFSETFROM:+0300
TZOFFSETTO:+0200
TZNAME:EET
DTSTART:20251026T010000
END:STANDARD
END:VTIMEZONE
BEGIN:VEVENT
DTSTART;TZID=Europe/Helsinki:20240605T190000
DTEND;TZID=Europe/Helsinki:20240605T210000
DTSTAMP:20260425T211550
CREATED:20240506T175533Z
LAST-MODIFIED:20240514T110531Z
UID:1261-1717614000-1717621200@www.cafedemar.cat
SUMMARY:Presentació del llibre: 'Brava gente: el MST y la lucha por la tierra en Brasil' de Bernardo Mançano Fernandes i Joao Pedro Stédile
DESCRIPTION:Dimecres 5 de juny / 19 h\nEspai Culinari del Cafè de Mar\nConduirà l’acte: Rosa Cañadell (professora jubilada\, sindicalista i articulista)\nL’MST (Moviment dels Treballadors Rurals Sense Terra) és el més significatiu dels moviments socials del Brasil. Fundat el 1984\, representa les ànsies i esperances de 4\,8 milions de famílies de treballadors rurals sense terra que viuen en el medi rural explotat per latifundistes i empreses. \n \nDurant aquests anys de lluita han conquerit més de 15 milions d’hectàrees per a més de 350.000 famílies que ocupen finques i pressionen al govern perquè portin a termini una veritable reforma agrària que mai acaba d’arribar. \nBrava Gente és un retrat privilegiat del moviment MST. Escrit per João Pedro Stédile (la figura més prominent de la direcció nacional d’aquest moviment) i pel professor Bernardo Mançano Fernandes (membre del Sector d’Educació del MST)\, aquest llibre permet familiaritzar-se amb l’origen i els principis del MST. \n \nAquesta activitat s’emmarca dins del ‘Cicle Utopies‘\, organitzat per l’Arxiu / Biblioteca de la Unió de Cooperadors de Mataró\, cicle que combina presentacions de llibres i sessions de cinema al Cafè de Mar.
URL:https://www.cafedemar.cat/event/presentacio-del-llibre-brava-gente-el-mst-y-la-lucha-por-la-tierra-en-brasil-de-bernardo-mancano-fernandes-i-joao-pedro-stedile/
ATTACH;FMTTYPE=image/png:https://www.cafedemar.cat/wp-content/uploads/2022/09/WEB-capçalera-Llibres-01.png
END:VEVENT
END:VCALENDAR